BEGIN:VCALENDAR
VERSION:2.0
PRODID:-//UMFCD - ECPv6.15.20//NONSGML v1.0//EN
CALSCALE:GREGORIAN
METHOD:PUBLISH
X-WR-CALNAME:UMFCD
X-ORIGINAL-URL:https://umfcd.ro
X-WR-CALDESC:Evenimente pentru UMFCD
REFRESH-INTERVAL;VALUE=DURATION:PT1H
X-Robots-Tag:noindex
X-PUBLISHED-TTL:PT1H
BEGIN:VTIMEZONE
TZID:Europe/Bucharest
BEGIN:DAYLIGHT
TZOFFSETFROM:+0200
TZOFFSETTO:+0300
TZNAME:EEST
DTSTART:20210328T010000
END:DAYLIGHT
BEGIN:STANDARD
TZOFFSETFROM:+0300
TZOFFSETTO:+0200
TZNAME:EET
DTSTART:20211031T010000
END:STANDARD
BEGIN:DAYLIGHT
TZOFFSETFROM:+0200
TZOFFSETTO:+0300
TZNAME:EEST
DTSTART:20220327T010000
END:DAYLIGHT
BEGIN:STANDARD
TZOFFSETFROM:+0300
TZOFFSETTO:+0200
TZNAME:EET
DTSTART:20221030T010000
END:STANDARD
BEGIN:DAYLIGHT
TZOFFSETFROM:+0200
TZOFFSETTO:+0300
TZNAME:EEST
DTSTART:20230326T010000
END:DAYLIGHT
BEGIN:STANDARD
TZOFFSETFROM:+0300
TZOFFSETTO:+0200
TZNAME:EET
DTSTART:20231029T010000
END:STANDARD
END:VTIMEZONE
BEGIN:VEVENT
DTSTART;VALUE=DATE:20220408
DTEND;VALUE=DATE:20220416
DTSTAMP:20260418T080334
CREATED:20220329T131719Z
LAST-MODIFIED:20220331T105519Z
UID:103061-1649376000-1650067199@umfcd.ro
SUMMARY:European Visiting Programme (EVP)
DESCRIPTION:Universitatea de Medicină și Farmacie „Carol Davila” din București\, prin Direcția Antreprenoriat Studențesc\, Alumni\, Activități Studențești\, Proiecte și Programe\, în parteneriat cu Liga Studenților la Medicină Dentară București\, au plăcerea de a anunța organizarea proiectului „EVP Bucharest”\, în perioada 🗓️ 8-15 Aprilie 2022. \nEuropean Visiting Programme (EVP) este unul dintre primele programe EDSA. Acesta oferă studenților din Europa posibilitatea de a vizita facultăți de medicină dentară din alte țări şi de a participa la activităţi alături de studenții acestora\, reprezentând o oportunitate de a vizita alte oraşe şi de a cunoaşte culturi noi. \n❗Pentru a afla mai multe detalii urmăriți paginile de Facebook și Instagram şi site-ul LSMDB.
URL:https://umfcd.ro/eveniment/european-visiting-programme-evp/
LOCATION:Bucuresti\, Bucuresti\, România
CATEGORIES:Activitati Extracuriculare
ATTACH;FMTTYPE=image/jpeg:https://umfcd.ro/wp-content/uploads/2022/03/EVP-UMFCD.jpg
END:VEVENT
BEGIN:VEVENT
DTSTART;VALUE=DATE:20220221
DTEND;VALUE=DATE:20220301
DTSTAMP:20260418T080334
CREATED:20220107T133809Z
LAST-MODIFIED:20220310T090713Z
UID:101432-1645401600-1646092799@umfcd.ro
SUMMARY:Winter Dental Project
DESCRIPTION:Universitatea de Medicină și Farmacie „Carol Davila” din București\, prin Direcția Antreprenoriat Studențesc\, Alumni\, Activități Studențești\, Proiecte și Programe\, în parteneriat cu Liga Studenților la Medicină Dentară București\, organizează în perioada 20-27 Februarie 2022 tabăra de formare profesională „Winter Dental Project” ❄️ \nProiectul „Winter Dental Project”\, aflat la a XVII-a ediție\, are ca obiectiv formarea profesională a studenților și a tinerilor absolvenți ai Facultății de Medicină Dentară din cadrul Universității de Medicină și Farmacie „Carol Davila” din București. Prin acest proiect participanții își vor consolida noțiunile teoretice în domeniul stomatologic\, implementând totodată o serie de abilități complementare profesiei de medic dentist\, precum: Leadership\, Time Management\, Teamwork👥 \n⏭️Tabăra este dedicată studenților la medicină dentară din anii I-VI și tinerilor medici din România și Republica Moldova. \nPentru această ediție sunt disponibile 40 de locuri. Depunerea dosarului se poate face până la data de 10 Ianuarie 2022. \nInformațiile suplimentare privind înscrierea se pot găsi prin accesarea următorului link: \n https://www.facebook.com/events/440161910917298/ \n#umfcd #lsmdb #WDP \n\nComunicat Post-Eveniment Winter Dental Project \nÎn perioada 20-27 Februarie Liga Studenților la Medicină Dentară București\, în colaborare cu Universitatea de Medicina si Farmacie „Carol Davila” din București\, a organizat proiectul „Winter Dental Project” 2022❄️. \nProiectul\, aflat la a XVII-a ediție a implicat organizarea de workshop-uri\, conferințe\, și activități destinate studenților de la Facultatea de Medicină Dentară. \nAm reușit să desfășurăm un workshop iTOP pentru a pune bazele profilaxiei dentare🦷 prin tehnica TouchToTeach\, dar și „Izolarea cu Digă”- unul dintre workshop-urile preferate ale studenților datorită părții practice unde aceștia au învățat tehnicile de aplicare a foliei de digă. \nActivitatea „Join the Revolution” 🎉\, coordonată de Florin Froimovici\, a fost organizată în colaborare Laboratorul de printare 3D în scopul testării creativității participanților. \nAm încheiat programul științific cu Dr. Cristina Rizea. Prezentarea „Cum obții jobul?”❓ a oferit studenților informații utile despre cum ar trebui să se prezinte la un interviu de angajare în domeniul medical. 🥼 \nVă așteptăm la ediția de vară🌞 a Dental Project cu forțe proaspete și activități la fel de interesante!
URL:https://umfcd.ro/eveniment/winter-dental-project/
LOCATION:Predeal\, România
CATEGORIES:Activitati Extracuriculare
ATTACH;FMTTYPE=image/jpeg:https://umfcd.ro/wp-content/uploads/2022/01/winter-dental-project.jpeg
END:VEVENT
END:VCALENDAR